BEGIN:VCALENDAR
VERSION:2.0
CALSCALE:GREGORIAN
PRODID:-//Diputació de Barcelona//DibaCMS//EN
BEGIN:VEVENT
UID:3294
DTSTAMP:20260425T161530
DTSTART:20260428T180000
DTEND:20260428T180000
SUMMARY:Ple del 28 d'Abril de 2026 - Ordinari
LOCATION:
METHOD:PUBLISH
X-WR-CALNAME:castellnou@castellnoudebages.cat
X-WR-TIMEZONE:Europe/Madrid
DESCRIPTION:
URI:https://www.castellnoudebages.cat/actualitat/agenda/ple-del-28-dabril-de-2026-ordinari.html
CLASS:PUBLIC
END:VEVENT
END:VCALENDAR
