BEGIN:VCALENDAR
VERSION:2.0
CALSCALE:GREGORIAN
PRODID:-//Diputació de Barcelona//DibaCMS//EN
BEGIN:VEVENT
UID:3291
DTSTAMP:20260421T130758
DTSTART:20260525T090000
DTEND:20260525T103000
SUMMARY:Servei de Banca Mòbil CaixaBank
LOCATION:Plaça 1 d'Octubre, El Serrat 08251 Castellnou de Bages
METHOD:PUBLISH
X-WR-CALNAME:castellnou@castellnoudebages.cat
X-WR-TIMEZONE:Europe/Madrid
DESCRIPTION:Ens visita la oficina mòbil de CaixaBank

URI:https://www.castellnoudebages.cat/actualitat/agenda/banca-mobil-caixabank-25052026.html
CLASS:PUBLIC
END:VEVENT
END:VCALENDAR
