BEGIN:VCALENDAR
VERSION:2.0
CALSCALE:GREGORIAN
PRODID:-//Diputació de Barcelona//DibaCMS//EN
BEGIN:VEVENT
UID:3262
DTSTAMP:20260424T145315
DTSTART:20260424T110000
DTEND:20260424T110000
SUMMARY:Visita guiada al Nucli Històric de Castellnou de Bages
LOCATION:
METHOD:PUBLISH
X-WR-CALNAME:castellnou@castellnoudebages.cat
X-WR-TIMEZONE:Europe/Madrid
DESCRIPTION:
URI:https://www.castellnoudebages.cat/actualitat/agenda/visita-guiada-nucli-historic-24-04-2026.html
CLASS:PUBLIC
END:VEVENT
END:VCALENDAR
