BEGIN:VCALENDAR
VERSION:2.0
CALSCALE:GREGORIAN
PRODID:-//Diputació de Barcelona//DibaCMS//EN
BEGIN:VEVENT
UID:3188
DTSTAMP:20260419T145846
DTSTART:20260516T100000
DTEND:20260516T130000
SUMMARY:Punt de recollida verda
LOCATION:
METHOD:PUBLISH
X-WR-CALNAME:castellnou@castellnoudebages.cat
X-WR-TIMEZONE:Europe/Madrid
DESCRIPTION:
URI:https://www.castellnoudebages.cat/actualitat/agenda/recollida-verda-16052026.html
CLASS:PUBLIC
END:VEVENT
END:VCALENDAR
