BEGIN:VCALENDAR
VERSION:2.0
CALSCALE:GREGORIAN
PRODID:-//Diputació de Barcelona//DibaCMS//EN
BEGIN:VEVENT
UID:3171
DTSTAMP:20260421T121003
DTSTART:20260918T160000
DTEND:20260918T190000
SUMMARY:Bibliobús<br/>El Serrat 16:00-17:45<br/>Les Pinedes 18:00-19:00
LOCATION:Al costat de l’escola L’Olivar. 
METHOD:PUBLISH
X-WR-CALNAME:castellnou@castellnoudebages.cat
X-WR-TIMEZONE:Europe/Madrid
DESCRIPTION:
URI:https://www.castellnoudebages.cat/actualitat/agenda/bibliobus-18092026.html
CLASS:PUBLIC
END:VEVENT
END:VCALENDAR
