BEGIN:VCALENDAR
VERSION:2.0
CALSCALE:GREGORIAN
PRODID:-//Diputació de Barcelona//DibaCMS//EN
BEGIN:VEVENT
UID:2775
DTSTAMP:20260424T000809
DTSTART:20180911T103000
DTEND:20180911T120000
SUMMARY:Ofrena 
LOCATION:Cementiri nucli històric 
METHOD:PUBLISH
X-WR-CALNAME:castellnou@castellnoudebages.cat
X-WR-TIMEZONE:Europe/Madrid
DESCRIPTION:
URI:https://www.castellnoudebages.cat/actualitat/agenda/ofrena-.html
CLASS:PUBLIC
END:VEVENT
END:VCALENDAR
