BEGIN:VCALENDAR
VERSION:2.0
CALSCALE:GREGORIAN
PRODID:-//Diputació de Barcelona//DibaCMS//EN
BEGIN:VEVENT
UID:2773
DTSTAMP:20260424T001129
DTSTART:20180909T210000
DTEND:20180909T230000
SUMMARY:Concert Diada 11 de setembre
LOCATION:Plaça Joan Vendrell 
METHOD:PUBLISH
X-WR-CALNAME:castellnou@castellnoudebages.cat
X-WR-TIMEZONE:Europe/Madrid
DESCRIPTION:
URI:https://www.castellnoudebages.cat/actualitat/agenda/concert-diada-11-de-setembre.html
CLASS:PUBLIC
END:VEVENT
END:VCALENDAR
